BEGIN:VCALENDAR
VERSION:2.0
PRODID:-//hacksw/handcal//NONSGML v1.0//EN
BEGIN:VEVENT
SUMMARY:BOUCLES DU PERIGORD VERT (24) - ELITE
UID:bc14e4c0-b73f-48fa-965f-763757c07666
DTSTART:20260418T220000Z
DTEND:20260419T220000Z
LOCATION:Localisation   
CATEGORIES:Sportif
STATUS:
URL;VALUE=URI:https://www.pedalesaintflorentaiseniort.net/evenements/2026/04/19/boucles-du-perigord-vert-24-elite-2443293
END:VEVENT
END:VCALENDAR
