BEGIN:VCALENDAR
VERSION:2.0
PRODID:-//hacksw/handcal//NONSGML v1.0//EN
BEGIN:VEVENT
SUMMARY:Course FFC a GENTE (16)
UID:545f0bb9-0f60-4ce5-a87e-3c3bdb6f9cbb
DTSTART:20190420T220000Z
DTEND:20190421T220000Z
LOCATION:Localisation   
CATEGORIES:Sportif
STATUS:
DESCRIPTION:<p><strong>Course minime et cadet et PC</strong></p>
 
URL;VALUE=URI:https://www.pedalesaintflorentaiseniort.net/evenements/2019/04/21/course-ffc-a-gente-16-1235282
END:VEVENT
END:VCALENDAR
