BEGIN:VCALENDAR
VERSION:2.0
PRODID:-//hacksw/handcal//NONSGML v1.0//EN
BEGIN:VEVENT
SUMMARY:Course FFC a Vouille (79)
UID:4eadf3ab-0f4b-47af-9699-b9a0919741fb
DTSTART:20190413T220000Z
DTEND:20190414T220000Z
LOCATION:Localisation rue des ecoles 79230 vouille
CATEGORIES:Sportif
STATUS:
DESCRIPTION:<p><span style="color:#000080;"><strong>Course organisee
 par la PSF, pour les cate FFC minime (depart a 12h30) et cadet
 (depart a 13h45), PC et PCO (depart a
 15h45)</strong></span></p>
 
 <p><span
 style="color:#000080;"><strong>avec le soutien de la commune, des
 cyclos et de l'association des commercants de
 Vouille.</strong></span></p>
 
 <p><span
 style="color:#ff0000;"><strong>ATTENTION
 :</strong></span></p>
 
 <p><span style="color:#ff0000;"><strong>Un
 flechage sera en place pour vous diriger vers le parking coureurs et
 accompagnateurs qui est celui de la salle polyvalente rue des piots a
 cote du cimetiere et au pied de la ligne de depart. Merci a tous les
 participants de respecter cette consigne. Bonne course a toutes et
 tous.</strong></span></p>
 
 <p><strong>Le trace de la course <a
 href="https://admin.sportsregions.fr/media/uploaded/sites/419/kcupload/files/parcours%20course%20vouill%C3%A9%2079%202019.pdf"
 target="_blank" rel="noreferrer
 noopener">ICI</a></strong></p>
 
 <p><strong>Les horaires courses <a
 href="https://admin.sportsregions.fr/media/uploaded/sites/419/kcupload/files/Planning%20Courses%20de%20Vouill%C3%A9%20Minimes%2BCadets%2BPC-PCO(3).pdf"
 target="_blank" rel="noreferrer
 noopener">ICI</a></strong></p>
 
 <p><strong>L'article NR page sport <a
 href="https://admin.sportsregions.fr/media/uploaded/sites/419/kcupload/files/SnipImage(5).JPG"
 target="_blank" rel="noreferrer noopener">ICI</a></strong></p>
 
URL;VALUE=URI:https://www.pedalesaintflorentaiseniort.net/evenements/2019/04/14/course-ffc-a-vouille-79-1190163
END:VEVENT
END:VCALENDAR
