BEGIN:VCALENDAR
VERSION:2.0
PRODID:-//hacksw/handcal//NONSGML v1.0//EN
BEGIN:VEVENT
SUMMARY:Course FFC a ST CLAUD (16)
UID:01b63035-2856-4811-aa40-dfbfc115be0e
DTSTART:20190405T220000Z
DTEND:20190406T220000Z
LOCATION:Localisation   
CATEGORIES:Sportif
STATUS:
DESCRIPTION:<p><strong>Course toutes cates en charente pour nos
 jeunes coursiers !</strong></p>
 
URL;VALUE=URI:https://www.pedalesaintflorentaiseniort.net/evenements/2019/04/06/course-ffc-a-st-claud-16-1231551
END:VEVENT
END:VCALENDAR
