BEGIN:VCALENDAR
VERSION:2.0
PRODID:-//hacksw/handcal//NONSGML v1.0//EN
BEGIN:VEVENT
SUMMARY:Ecole de velo a Chauray (79)
UID:2b4b4cb2-fde0-4431-8eab-bfde2682e16e
DTSTART:20190330T230000Z
DTEND:20190331T230000Z
LOCATION:Localisation feu vert 79180 chauray
CATEGORIES:Sportif
STATUS:
DESCRIPTION:<p><strong>Course EV organisee par la PSF a Chauray (79)
 sur le parking de Geant Niort Chauray</strong></p>
 
 <p><span
 style="color:#000080;"><strong>Les horaires depart course <a
 href="https://admin.sportsregions.fr/media/uploaded/sites/419/kcupload/files/horaire%20course%20EV%20Chauray%202019.JPG"
 target="_blank" rel="noreferrer
 noopener">ICI</a></strong></span></p>
 
URL;VALUE=URI:https://www.pedalesaintflorentaiseniort.net/evenements/2019/03/31/ecole-de-velo-a-chauray-79-1190166
END:VEVENT
END:VCALENDAR
