BEGIN:VCALENDAR
VERSION:2.0
PRODID:-//hacksw/handcal//NONSGML v1.0//EN
BEGIN:VEVENT
SUMMARY:Course FFC a Bonnac la cote (87)
UID:52e21deb-7c35-4a0f-89a2-b37537d70a10
DTSTART:20190330T230000Z
DTEND:20190331T230000Z
LOCATION:Localisation   
CATEGORIES:Sportif
STATUS:
DESCRIPTION:<p><strong>Course FFC en PC et PCO</strong></p>
 
URL;VALUE=URI:https://www.pedalesaintflorentaiseniort.net/evenements/2019/03/31/course-ffc-a-bonnac-la-cote-87-1228929
END:VEVENT
END:VCALENDAR
