BEGIN:VCALENDAR
VERSION:2.0
PRODID:-//hacksw/handcal//NONSGML v1.0//EN
BEGIN:VEVENT
SUMMARY:Course Ufolep a Mareuil (16)
UID:5b81baac-cc8a-460e-a2ac-2e2698636857
DTSTART:20190329T230000Z
DTEND:20190330T230000Z
LOCATION:Localisation   
CATEGORIES:Sportif
STATUS:
DESCRIPTION:<p><strong>Course Ufolep toutes cates en
 Charente</strong></p>
 
URL;VALUE=URI:https://www.pedalesaintflorentaiseniort.net/evenements/2019/03/30/course-ufolep-a-mareuil-16-1228935
END:VEVENT
END:VCALENDAR
