BEGIN:VCALENDAR
VERSION:2.0
PRODID:-//hacksw/handcal//NONSGML v1.0//EN
BEGIN:VEVENT
SUMMARY:Course Ufolep a Bouille Courdault (85)
UID:476f107a-a738-403b-8c99-f9ac60436fbe
DTSTART:20190329T230000Z
DTEND:20190330T230000Z
LOCATION:Localisation   
CATEGORIES:Sportif
STATUS:
DESCRIPTION:<p><strong>Course Ufolep toutes cates en
 vendee</strong></p>
 
URL;VALUE=URI:https://www.pedalesaintflorentaiseniort.net/evenements/2019/03/30/course-ufolep-a-bouille-courdault-85-1228934
END:VEVENT
END:VCALENDAR
