BEGIN:VCALENDAR
VERSION:2.0
PRODID:-//hacksw/handcal//NONSGML v1.0//EN
BEGIN:VEVENT
SUMMARY:Course FFC a Montmorillon (86)
UID:cec6c09e-7c26-46f6-9a29-ecb3acc9bf85
DTSTART:20190323T230000Z
DTEND:20190324T230000Z
LOCATION:Localisation   
CATEGORIES:Sportif
STATUS:
DESCRIPTION:<p><strong>Course FFC en PC dans la Vienne</strong></p>
 
URL;VALUE=URI:https://www.pedalesaintflorentaiseniort.net/evenements/2019/03/24/course-ffc-a-montmorillon-86-1226867
END:VEVENT
END:VCALENDAR
