BEGIN:VCALENDAR
VERSION:2.0
PRODID:-//hacksw/handcal//NONSGML v1.0//EN
BEGIN:VEVENT
SUMMARY:Course FFC a La Ferte St Aubin (45)
UID:da82a1b8-bed3-4de7-9ead-cbe0fbec3866
DTSTART:20190316T230000Z
DTEND:20190317T230000Z
LOCATION:Localisation   
CATEGORIES:Sportif
STATUS:
DESCRIPTION:<p><strong>Course PC dans le Loiret</strong></p>
 
 
 
 
 
URL;VALUE=URI:https://www.pedalesaintflorentaiseniort.net/evenements/2019/03/17/course-ffc-a-la-ferte-st-aubin-45-1223714
END:VEVENT
END:VCALENDAR
