BEGIN:VCALENDAR
VERSION:2.0
PRODID:-//hacksw/handcal//NONSGML v1.0//EN
BEGIN:VEVENT
SUMMARY:SORTIE VELODROME BORDEAUX (33)
UID:b339ef58-e8e3-4559-bd91-8f73cb0a26af
DTSTART:20190222T230000Z
DTEND:20190223T230000Z
LOCATION:Localisation velodrome le lac 33000 bordeaux
CATEGORIES:Sportif
STATUS:
DESCRIPTION:<p><span style="color:#000080;"><strong>Comme chaque
 annee, la PSF organise une sortie au velodrome de Bordeaux pour vous
 familiariser avec la piste et apprendre a frotter
 !</strong></span></p>
 
 <p><strong><span style="color:#000080;">Taille
 minimum pour participer requise de
 1m40</span></strong></p>
 
 <p><strong><span
 style="color:#800000;">Merci de vous inscrire aupres de Jean Michel
 Charrier par mail a :
 jm.charrier79@sfr.fr</span></strong></p>
 
 <p><strong>Le
 bureau</strong></p>
 
 
 
 
 
 
 
 
URL;VALUE=URI:https://www.pedalesaintflorentaiseniort.net/evenements/2019/02/23/sortie-velodrome-bordeaux-33-1198042
END:VEVENT
END:VCALENDAR
