BEGIN:VCALENDAR
VERSION:2.0
PRODID:-//hacksw/handcal//NONSGML v1.0//EN
BEGIN:VEVENT
SUMMARY:REMISE DES MAILLOTS PSF 2019
UID:9f5859ac-2b34-4426-91ab-c0caf6c6b4ba
DTSTART:20190216T090000Z
DTEND:20190216T110000Z
LOCATION:Localisation garage savia 79 chauray
CATEGORIES:Sportif
STATUS:
DESCRIPTION:<p><span style="color:#000080;"><strong> Nous vous
 attendons nombreux pour participer a la remise des equipements PSF
 pour cette nouvelle saison 2019.</strong></span></p>
 
 <p><span
 style="color:#000080;"><strong>RDV le samedi 16 fevrier au garage
 Savia mercedez a Chauray.</strong></span></p>
 
 <p><span
 style="color:#000080;"><strong>Un petit dej sera servi lors de cette
 ceremonie qui servira egalement a la prise des photos en individuel
 et par equipe pour le site.</strong></span></p>
 
 <p><span
 style="color:#800000;"><strong>Nous comptons sur votre presence
 messieurs les coureurs et dirigeants
 !</strong></span></p>
 
 <p><strong>Le bureau</strong></p>
 
 
 
 
 
 
URL;VALUE=URI:https://www.pedalesaintflorentaiseniort.net/evenements/2019/02/16/remise-des-maillots-psf-2019-1198041
END:VEVENT
END:VCALENDAR
