BEGIN:VCALENDAR
VERSION:2.0
PRODID:-//hacksw/handcal//NONSGML v1.0//EN
BEGIN:VEVENT
SUMMARY:STAGE CLUB A VILLIERS EN BOIS (79)
UID:1fcd7924-3efc-465b-863d-75e7df18e658
DTSTART:20190208T230000Z
DTEND:20190210T230000Z
LOCATION:Localisation  79 villiers en bois
CATEGORIES:Sportif
STATUS:
DESCRIPTION:<div><span style="color:#000080;"><strong>Venez nombreux
 participer au stage club reserve a partir de la categorie CADET a
 Villiers en Bois les 09 et 10 Fevrier 2019 anime par FRED avec
 l'intervention d'une nutritionniste et des infos sur l'entrainement
 et l’arbitrage par
 Anthony....</strong></span></div>
 
 <div> </div>
 
 <div><span
 style="color:#000080;"><strong>La meilleure facon de preparer votre
 saison 2019 !</strong></span></div>
 
 <div> </div>
 
 <div><span
 style="color:#800000;"><strong>Merci de vous inscrire par mail aupres
 de Fred Mainguenaud :
 fmainguenaud@gmail.com</strong></span></div>
 
 <div> </div>
 
 <div><strong>Bon
 stage a tous</strong></div>
 
 <div><strong>Le
 bureau</strong></div>
 
 
 
 
 
 
URL;VALUE=URI:https://www.pedalesaintflorentaiseniort.net/evenements/2019/02/09/stage-club-a-villiers-en-bois-79-1198033
END:VEVENT
END:VCALENDAR
