BEGIN:VCALENDAR
VERSION:2.0
PRODID:-//hacksw/handcal//NONSGML v1.0//EN
BEGIN:VEVENT
SUMMARY:Championnat 79 cyclo cross UFOLEP
UID:535163a2-e9dc-496f-adc0-9aaf8b9d4ec7
DTSTART:20181103T230000Z
DTEND:20181104T230000Z
LOCATION:Localisation   
CATEGORIES:Sportif
STATUS:
DESCRIPTION:<p><strong>Toutes les infos sur le championnat
 departemental de cyclocross Ufolep dans le DO <a
 href="https://admin.sportsregions.fr/media/uploaded/sites/419/kcupload/files/Dossier%20championnats%20d%C3%A9partementaux%20BRIE%202018-20193.pdf"
 target="_blank" rel="noreferrer noopener">ICI</a></strong></p>
 
 
 
 
 
 
URL;VALUE=URI:https://www.pedalesaintflorentaiseniort.net/evenements/2018/11/04/championnat-79-cyclo-cross-ufolep-1158347
END:VEVENT
END:VCALENDAR
