BEGIN:VCALENDAR
VERSION:2.0
PRODID:-//hacksw/handcal//NONSGML v1.0//EN
BEGIN:VEVENT
SUMMARY:Course FFC a Moutiers les Maufaix
UID:f28cdba4-0608-480c-84f9-b83569bb3331
DTSTART:20181013T220000Z
DTEND:20181014T220000Z
LOCATION:Localisation   
CATEGORIES:Sportif
STATUS:
DESCRIPTION:<p> </p>
 
 
 
 
 
URL;VALUE=URI:https://www.pedalesaintflorentaiseniort.net/evenements/2018/10/14/course-ffc-a-moutiers-les-maufaix-1152313
END:VEVENT
END:VCALENDAR
