BEGIN:VCALENDAR
VERSION:2.0
PRODID:-//hacksw/handcal//NONSGML v1.0//EN
BEGIN:VEVENT
SUMMARY:Course FFC - Tour des Corbieres (11) 
UID:8595cc37-16f2-4302-9d52-5cf1ab532e02
DTSTART:20180623T220000Z
DTEND:20180624T220000Z
LOCATION:Localisation   
CATEGORIES:Sportif
STATUS:
DESCRIPTION:<p>Course 2-3-J</p>
 
URL;VALUE=URI:https://www.pedalesaintflorentaiseniort.net/evenements/2018/06/24/course-ffc-tour-des-corbieres-11-1094497
END:VEVENT
END:VCALENDAR
