BEGIN:VCALENDAR
VERSION:2.0
PRODID:-//hacksw/handcal//NONSGML v1.0//EN
BEGIN:VEVENT
SUMMARY:Course FFC - Sablonceau (17)
UID:30820eb6-9443-4d2f-8e0e-c5b744dd5dfd
DTSTART:20180622T220000Z
DTEND:20180623T220000Z
LOCATION:Localisation   
CATEGORIES:Sportif
STATUS:
DESCRIPTION:<p>Course Minimes </p>
 
URL;VALUE=URI:https://www.pedalesaintflorentaiseniort.net/evenements/2018/06/23/course-ffc-sablonceau-17-1094487
END:VEVENT
END:VCALENDAR
