BEGIN:VCALENDAR
VERSION:2.0
PRODID:-//hacksw/handcal//NONSGML v1.0//EN
BEGIN:VEVENT
SUMMARY:Cyclosportive FSGT - MILLAS (66) 
UID:264efe97-8532-4254-bd78-8d718ecd0872
DTSTART:20180401T220000Z
DTEND:20180402T220000Z
LOCATION:Localisation   
CATEGORIES:Sportif
STATUS:
URL;VALUE=URI:https://www.pedalesaintflorentaiseniort.net/evenements/2018/04/02/cyclosportive-fsgt-millas-66-1072964
END:VEVENT
END:VCALENDAR
